BEGIN:VCALENDAR
VERSION:2.0
PRODID:-//wp-events-plugin.com//5.99912//EN
TZID:Europe/Berlin
X-WR-TIMEZONE:Europe/Berlin
BEGIN:VEVENT
UID:9-11217@jugend.albverein.net
DTSTART;TZID=Europe/Zurich;VALUE=DATE:20261001
DTEND;TZID=Europe/Zurich;VALUE=DATE:20261006
DTSTAMP:20251222T110623Z
URL:https://jugend.albverein.net/events/100-jahre-100-kilometer/
SUMMARY:100 Jahre - 100 Kilometer
DESCRIPTION:\n\n&nbsp\;\n\nVon Stuttgart auf die Fuchsfarm\nZum Jubiläums-
 Jahr gehört für einen anständigen Verein natürlich auch eine Jubiläum
 s-Tour – und wenn man 100 Jahre alt wird\, dann darf die natürlich 100 
 Kilometer lang sein. \n&nbsp\;\nDabei verbindet die Tour zwei zentrale Or
 te der Schwäbischen Albvereinsjugend: Die Jugendgeschäftsstelle in Stutt
 gart\, die neben den Ortsgruppen und den Ehrenamtlichen drittes Herz der A
 lbvereinsjugend ist\, mit dem Jugendzentrum Fuchsfarm\, ohne das viele Ver
 anstaltungen kein Zuhause hätten.\n&nbsp\;\nWir wandern auf den Spuren de
 r drei Touren im Mai – wer diese verpasst hat oder so klasse fand\, dass
  er sie nochmal laufen möchte\, bekommt hier eine zweite Chance.\n&nbsp\;
 \nUnterkommen werden wir in Schutzhütten\, in Vereinsheimen oder in Jugen
 dherbergen.\n&nbsp\;\n\nTeilnehmende\n3 - 20 Personen\nab 14 Jahren\n\nPre
 is\n60 €\, Mitglieder 50 € \n\nLeitung\nMatthias Schäfer\n\n\nLeistu
 ngen\n• Tourenleitung \n• Unterkunft\n• Kosten für Verpflegung wer
 den aufgeteilt\n\nAnmeldeschluss\n24.09.2026\n\nAuskunft\nJugend- und Fami
 liengeschäftsstelle\nTel. 0711 22585-74\ninfo@schwaebische-albvereinsjuge
 nd.de\n\nAnmeldung\nwww.albvereinsjugend.de
CATEGORIES:Jugend
LOCATION:Jugendzentrum Fuchsfarm\, Raichberg 3\, Albstadt-Onstmettingen\, 7
 2461\, Deutschland
GEO:48.3008761492356;8.991845626983604
X-APPLE-STRUCTURED-LOCATION;VALUE=URI;X-ADDRESS=Raichberg 3\, Albstadt-Onst
 mettingen\, 72461\, Deutschland;X-APPLE-RADIUS=100;X-TITLE=Jugendzentrum F
 uchsfarm:geo:48.3008761492356,8.991845626983604
END:VEVENT
BEGIN:VTIMEZONE
TZID:Europe/Zurich
X-LIC-LOCATION:Europe/Zurich
BEGIN:DAYLIGHT
DTSTART:20260329T030000
TZOFFSETFROM:+0100
TZOFFSETTO:+0200
TZNAME:CEST
END:DAYLIGHT
END:VTIMEZONE
END:VCALENDAR