BEGIN:VCALENDAR
VERSION:2.0
PRODID:-//wp-events-plugin.com//5.99912//EN
TZID:Europe/Berlin
X-WR-TIMEZONE:Europe/Berlin
BEGIN:VEVENT
UID:9-11201@jugend.albverein.net
DTSTART;TZID=Europe/Zurich;VALUE=DATE:20260911
DTEND;TZID=Europe/Zurich;VALUE=DATE:20260914
DTSTAMP:20251222T110555Z
URL:https://jugend.albverein.net/events/100-jahre-gemeinsam-unterwegs/
SUMMARY:100 Jahre gemeinsam unterwegs
DESCRIPTION:\n\n&nbsp\;\n\nIst das nicht ein Grund zum Feiern? \n\nSeit ein
 em Jahrhundert entdecken wir unsere Natur in unseren Ortsgruppen\, sind ge
 meinsam auf Zeltlagern oder organisieren einzigartige Events für unsere M
 itglieder. Du bist oder warst Teil der Albvereinsjugend? Dann haben wir di
 e perfekte Veranstaltung für dich!\n\nBei einem unvergesslichen Wochenend
 e auf unserem Jugendzentrum Fuchsfarm ist es an der Zeit\, gemeinsam zurü
 ckzublicken\, Freunde wieder zu treffen und eine einzigartige Zeit auf der
  Fuchsfarm zu verbringen. Dabei habt ihr viel Zeit\, die Highlights der Fu
 chsfarm individuell zu genießen - ob beim Lagerfeuer\, bei einer Wanderun
 g über den Raichberg oder bei einer nervenaufreibenden Runde Schwedenscha
 ch.\n\nSei außerdem dabei\, wenn wir am Samstagabend bei der großen Part
 y die 100 Jahre Albvereinsjugend gebührend feiern. Weitere Infos gibt es 
 unter www.albvereinsjugend.de\n\n&nbsp\;\n\nTeilnehmende\n8 - 16 Personen\
 nab 15 Jahren\n\nPreis\n40 € \n\nLeitung\nAdina Mohr\nLorena Hägele\nL
 ukas Raschke\n\nLeistungen\n• Übernachtung \n• Verpflegung\n• Prog
 ramm\n\nAnmeldeschluss\n09.08.2026\n\nAuskunft\nJugend- und Familiengesch
 äftsstelle\nTel. 0711 22585-74\ninfo@schwaebische-albvereinsjugend.de\n\n
 Anmeldung\nwww.albvereinsjugend.de
CATEGORIES:Jugend
LOCATION:Jugendzentrum Fuchsfarm\, Raichberg 3\, Albstadt-Onstmettingen\, 7
 2461\, Deutschland
GEO:48.3008761492356;8.991845626983604
X-APPLE-STRUCTURED-LOCATION;VALUE=URI;X-ADDRESS=Raichberg 3\, Albstadt-Onst
 mettingen\, 72461\, Deutschland;X-APPLE-RADIUS=100;X-TITLE=Jugendzentrum F
 uchsfarm:geo:48.3008761492356,8.991845626983604
END:VEVENT
BEGIN:VTIMEZONE
TZID:Europe/Zurich
X-LIC-LOCATION:Europe/Zurich
BEGIN:DAYLIGHT
DTSTART:20260329T030000
TZOFFSETFROM:+0100
TZOFFSETTO:+0200
TZNAME:CEST
END:DAYLIGHT
END:VTIMEZONE
END:VCALENDAR