BEGIN:VCALENDAR
VERSION:2.0
PRODID:-//wp-events-plugin.com//5.99912//EN
TZID:Europe/Berlin
X-WR-TIMEZONE:Europe/Berlin
BEGIN:VEVENT
UID:9-11232@jugend.albverein.net
DTSTART;TZID=Europe/Zurich;VALUE=DATE:20260906
DTEND;TZID=Europe/Zurich;VALUE=DATE:20260911
DTSTAMP:20251222T110543Z
URL:https://jugend.albverein.net/events/burg-dernext/
SUMMARY:Burg DerNext
DESCRIPTION:\n\n&nbsp\;\n\nDu bist zu alt für die klassische Derneck – o
 der hast bisher nur von deinen Freunden gehört\, wie legendär es dort wa
 r?\n\nDann ist die Dernext genau dein Ding!\n\nAus eigener Erfahrung könn
 en wir dir versprechen: Es gibt abwechslungsreiches Essen\, ein starkes P
 rogramm und jede Menge Spaß.\n\nFreundschaften fürs Leben? Definitiv dri
 n.\n\nFreu dich auf unvergessliche Tage voller Action\, guter Stimmung und
  neuen Freunden.\nXoXo – das 13er Mädels-Zimmer &lt\;3\nPS: Wir sehen u
 ns dort!\n\n&nbsp\;\n\nTeilnehmende\n24 - 36 Personen\n13 - 17 Jahre\n\nLe
 itung\nPhilipp Bussmann\nKathrin Bussmann\nKai Krautsieder\n\nPreis\nbis 3
 0.04.  225 € / Mitglied 215 €\nab 01.05.   235 € / Mitglied 225 
 €\n\nLeistungen\n• Mehrbettzimmer und Matratzenlager\n• Verpflegung\
 n• Programm\, Eintritte\n\n\n\nAnmeldeschluss\n12.08.2026\n\nAuskunft\nJ
 ugend- und Familiengeschäftsstelle\nTel. 0711 22585-74\ninfo@schwaebische
 -albvereinsjugend.de\n\nAnmeldung\nwww.albvereinsjugend.de\n\n\n
CATEGORIES:Jugend
LOCATION:Wanderheim Burg Derneck\, Schlosshalde 1\, Hayingen\, Baden-Württ
 emberg\, 72534\, Deutschland
GEO:48.30943930091257;9.497204240380825
X-APPLE-STRUCTURED-LOCATION;VALUE=URI;X-ADDRESS=Schlosshalde 1\, Hayingen\,
  Baden-Württemberg\, 72534\, Deutschland;X-APPLE-RADIUS=100;X-TITLE=Wande
 rheim Burg Derneck:geo:48.30943930091257,9.497204240380825
END:VEVENT
BEGIN:VTIMEZONE
TZID:Europe/Zurich
X-LIC-LOCATION:Europe/Zurich
BEGIN:DAYLIGHT
DTSTART:20260329T030000
TZOFFSETFROM:+0100
TZOFFSETTO:+0200
TZNAME:CEST
END:DAYLIGHT
END:VTIMEZONE
END:VCALENDAR