BEGIN:VCALENDAR
VERSION:2.0
PRODID:-//wp-events-plugin.com//5.99912//EN
TZID:Europe/Berlin
X-WR-TIMEZONE:Europe/Berlin
BEGIN:VEVENT
UID:9-11230@jugend.albverein.net
DTSTART;TZID=Europe/Zurich;VALUE=DATE:20261028
DTEND;TZID=Europe/Zurich;VALUE=DATE:20261102
DTSTAMP:20251222T110653Z
URL:https://jugend.albverein.net/events/halloween-freizeit/
SUMMARY:Halloween-Freizeit
DESCRIPTION:\n\n&nbsp\;\n\nDie Nächte werden länger\, der Nebel dichter u
 nd die Stimmen aus dem Dunkeln lauter. Man erzählt sich von einem geheime
 n Ort\, tief im Wald verborgen\, an dem sich jedes Jahr zur Halloweenzeit 
 die Tore zu einer anderen Welt öffnen. Dort erwarten dich Abenteuer\, die
  Herzklopfen versprechen\, Geschichten am Feuer\, die unter die Haut gehen
 \, und eine Gemeinschaft\, die stärker ist als jede Furcht.\n\nWirst du d
 en Ruf der Schatten hören und ihm folgen?\n\n&nbsp\;\n\nTeilnehmende\n12 
 - 24 Personen\n8 - 14 Jahre\n\nLeitung\nPeter Buchmann\nIsabell Stenske\n\
 nPreis\nbis 31.07.  165 € / Mitglied 150 €\nab 01.08.   180 € / Mi
 tglied 165 €\n\nLeistungen\n• Mehrbettzimmer und Matratzenlager\n• 
 Verpflegung\n• Programm\, Eintritte\n\nAnmeldeschluss\n02.10.2026\n\nAus
 kunft\nJugend- und Familiengeschäftsstelle\nTel. 0711 22585-74\ninfo@schw
 aebische-albvereinsjugend.de\n\nAnmeldung\nwww.albvereinsjugend.de
CATEGORIES:Jugend
LOCATION:Freizeitheim Sigelshütte\, Am Hörnle\, Bissingen an der Teck\, B
 aden-Württemberg\, 73266\, Deutschland
GEO:48.599502;9.474544
X-APPLE-STRUCTURED-LOCATION;VALUE=URI;X-ADDRESS=Am Hörnle\, Bissingen an d
 er Teck\, Baden-Württemberg\, 73266\, Deutschland;X-APPLE-RADIUS=100;X-TI
 TLE=Freizeitheim Sigelshütte:geo:48.599502,9.474544
END:VEVENT
BEGIN:VTIMEZONE
TZID:Europe/Zurich
X-LIC-LOCATION:Europe/Zurich
BEGIN:STANDARD
DTSTART:20261025T020000
TZOFFSETFROM:+0200
TZOFFSETTO:+0100
TZNAME:CET
END:STANDARD
END:VTIMEZONE
END:VCALENDAR