BEGIN:VCALENDAR
VERSION:2.0
PRODID:-//wp-events-plugin.com//5.99912//EN
TZID:Europe/Berlin
X-WR-TIMEZONE:Europe/Berlin
BEGIN:VEVENT
UID:9-11252@jugend.albverein.net
DTSTART;TZID=Europe/Zurich;VALUE=DATE:20260925
DTEND;TZID=Europe/Zurich;VALUE=DATE:20260928
DTSTAMP:20251222T110610Z
URL:https://jugend.albverein.net/events/internationale-jugendbegegnung-2/
SUMMARY:Internationale Jugendbegegnung (2)
DESCRIPTION:© Deutsche Wanderjugend\n&nbsp\;\n\nEURORANDO gemeinsam unterw
 egs\n\nBist du gerne draußen unterwegs und möchtest dabei Jugendliche au
 s anderen Ländern kennenlernen? Dann bist Du genau richtig für unsere de
 utsch-polnisch-tschechische Jugendbegegnung zum größten Wanderfestival E
 uropas.\n\nGemeinsam mit Kindern und Jugendlichen aus Polen\, Tschechien u
 nd Deutschland erkunden wir im Frühjahr und Herbst 2026 die Grenzregion. 
 Wir wandern\, entdecken die Natur\, spielen\, basteln\, kochen zusammen un
 d lernen viel über Europa und Freundschaft. Hier kannst du deine Ideen ei
 nbringen\, mitbestimmen und erleben\, wie stark wir zusammen sind\, wenn w
 ir über Grenzen hinweg zusammenarbeiten. Dafür musst du bei uns keine Fr
 emdsprache perfekt sprechen – wir unterstützen uns bei allem gegenseiti
 g.\n\nWenn möglich\, sei bitte bei beiden Terminen (siehe auch 27.02. - 0
 1.03.2026) dabei – so kannst du deine neuen Freundinnen und Freunde glei
 ch zweimal treffen.\n\n&nbsp\;\n\nTeilnehmende\n15 Personen\n12 – 15 Jah
 re\n\nPreis\nkeiner\n\nLeitung\nSilvia Schuck-Röll\nKevin Mendl\nSvenja M
 isamer\n\nLeistungen\n• Unterkunft in Mehrbettzimmern\n• Verpflegung\n
 • Programm\n\nZusatzinformation\nAn- und Abreise muss selbst organisiert
  werden\n\nAnmeldeschluss\n30.01.2026\n\nVeranstalter / Anmeldung\nDWJ Bun
 desverband\nEuropäische Wandervereinigung\nwww.wanderjugend.de\n\n&nbsp\;
CATEGORIES:Jugend
LOCATION:Schullandheim\, Schulstraße 16\, Johanngeorgenstadt\, Sachsen\, 0
 8349\, Deutschland
GEO:50.43675;12.6977
X-APPLE-STRUCTURED-LOCATION;VALUE=URI;X-ADDRESS=Schulstraße 16\, Johanngeo
 rgenstadt\, Sachsen\, 08349\, Deutschland;X-APPLE-RADIUS=100;X-TITLE=Schul
 landheim:geo:50.43675,12.6977
END:VEVENT
BEGIN:VTIMEZONE
TZID:Europe/Zurich
X-LIC-LOCATION:Europe/Zurich
BEGIN:DAYLIGHT
DTSTART:20260329T030000
TZOFFSETFROM:+0100
TZOFFSETTO:+0200
TZNAME:CEST
END:DAYLIGHT
END:VTIMEZONE
END:VCALENDAR