BEGIN:VCALENDAR
VERSION:2.0
PRODID:-//wp-events-plugin.com//5.99912//EN
TZID:Europe/Berlin
X-WR-TIMEZONE:Europe/Berlin
BEGIN:VEVENT
UID:9-11242@jugend.albverein.net
DTSTART;TZID=Europe/Zurich;VALUE=DATE:20261011
DTEND;TZID=Europe/Zurich;VALUE=DATE:20261012
DTSTAMP:20251222T110636Z
URL:https://jugend.albverein.net/events/jugendvertretungsversammlung-jvv-6
 /
SUMMARY:Jugendvertretungsversammlung (JVV)
DESCRIPTION:Einladung und Agenda werden der Personengruppe rechtzeitig zuge
 schickt.\nAn der Veranstaltung kann auch online teilgenommen werden.\n\n&n
 bsp\;\n\nUhrzeit\n10 - 12:30 Uhr
CATEGORIES:Jugend
LOCATION:Jugendzentrum Fuchsfarm\, Raichberg 3\, Albstadt-Onstmettingen\, 7
 2461\, Deutschland
GEO:48.3008761492356;8.991845626983604
X-APPLE-STRUCTURED-LOCATION;VALUE=URI;X-ADDRESS=Raichberg 3\, Albstadt-Onst
 mettingen\, 72461\, Deutschland;X-APPLE-RADIUS=100;X-TITLE=Jugendzentrum F
 uchsfarm:geo:48.3008761492356,8.991845626983604
END:VEVENT
BEGIN:VTIMEZONE
TZID:Europe/Zurich
X-LIC-LOCATION:Europe/Zurich
BEGIN:DAYLIGHT
DTSTART:20260329T030000
TZOFFSETFROM:+0100
TZOFFSETTO:+0200
TZNAME:CEST
END:DAYLIGHT
END:VTIMEZONE
END:VCALENDAR