BEGIN:VCALENDAR
VERSION:2.0
PRODID:-//wp-events-plugin.com//5.99912//EN
TZID:Europe/Berlin
X-WR-TIMEZONE:Europe/Berlin
BEGIN:VEVENT
UID:9-11197@jugend.albverein.net
DTSTART;TZID=Europe/Zurich;VALUE=DATE:20261120
DTEND;TZID=Europe/Zurich;VALUE=DATE:20261123
DTSTAMP:20251222T110710Z
URL:https://jugend.albverein.net/events/juleica-i-2/
SUMMARY:Juleica I
DESCRIPTION:\n\n&nbsp\;\n\nBasiswissen für Jugendleitungen und Freizeittea
 mende\n\nBei Juleica I lernst du Grundlegendes für deine Tätigkeit als J
 ugendleiter*in.\n\nDu setzt dich mit der Lebenswelt von Kindern und Jugend
 lichen auseinander\, die Zielgruppe unserer Angebote sind. Durch Spiele\, 
 den Einsatz von vielfältigen Methoden setzt du dich mit deiner Rolle\, de
 inen Stärken und deinen Pflichten als Gruppenleiter*in auseinander.\n\nWe
 itere Lehrgangsinhalte sind:\n• entwicklungspsychologische Grundlagen de
 s Kinder- und Jugendalters\n• die eigene Rolle als Leiter*in\n• Beteil
 igungsmöglichkeit und Interessensvertretung\n• Recht (Aufsichtsrecht\, 
 Jugendschutz\, Sexualstrafrecht)\n\n&nbsp\;\n\nTeilnehmende\n8 bis 16 Pers
 onen\nab 15 Jahren\n\nLeitung\nKevin Mendl ist Bundesvorsitzender der Deut
 schen Wanderjugend. \nSophie Zettl ist Bildungsreferentin der Jugend im S
 chwarzwaldverein.\n\nPreis\n60 € / Mitglied 30 €\n\nLeistungen\n• Un
 terkunft\n• Verpflegung\n• Programm\n• Unterlagen\n\n\nAnmeldeschlus
 s\n28.10.2026\n\nAuskunft\nJugend- und Familiengeschäftsstelle\nTel. 0711
  22585-74\ninfo@schwaebische-albvereinsjugend.de\n\nAnmeldung\nwww.albvere
 insjugend.de
CATEGORIES:Jugend
LOCATION:Jugendherberge Bad Urach\, Seltbachstraße 9\, Bad Urach\, Baden-W
 ürttemberg\, 72574\, Deutschland
GEO:48.4933743;9.3873372
X-APPLE-STRUCTURED-LOCATION;VALUE=URI;X-ADDRESS=Seltbachstraße 9\, Bad Ura
 ch\, Baden-Württemberg\, 72574\, Deutschland;X-APPLE-RADIUS=100;X-TITLE=J
 ugendherberge Bad Urach:geo:48.4933743,9.3873372
END:VEVENT
BEGIN:VTIMEZONE
TZID:Europe/Zurich
X-LIC-LOCATION:Europe/Zurich
BEGIN:STANDARD
DTSTART:20261025T020000
TZOFFSETFROM:+0200
TZOFFSETTO:+0100
TZNAME:CET
END:STANDARD
END:VTIMEZONE
END:VCALENDAR