BEGIN:VCALENDAR
VERSION:2.0
PRODID:-//wp-events-plugin.com//5.99912//EN
TZID:Europe/Berlin
X-WR-TIMEZONE:Europe/Berlin
BEGIN:VEVENT
UID:9-11224@jugend.albverein.net
DTSTART;TZID=Europe/Zurich;VALUE=DATE:20261206
DTEND;TZID=Europe/Zurich;VALUE=DATE:20261207
DTSTAMP:20251222T110738Z
URL:https://jugend.albverein.net/events/stadt-land-fuss-auf-dem-stuttgarte
 r-rundwanderweg-3/
SUMMARY:Stadt. Land. Fuß. - Auf dem Stuttgarter Rundwanderweg (3)
DESCRIPTION:© Michael Schmitt (SAV)\n&nbsp\;\n\nZuffenhausen - Birkenkopf\
 nZu Fuß lässt sich die ganze Welt erkunden - aber wie gut kennen wir uns
  eigentlich vor unserer eigenen Haustür aus? Welche Entdeckungen lassen s
 ich unmittelbar im Herzen unserer Heimat entdecken? Was hat unsere Landesh
 auptstadt abseits von Königstraße\, Baustellen und Co zu bieten?\n&nbsp\
 ;\nAuf dem Stuttgarter Rundweg können wir neue Ecken von Stuttgart entdec
 ken und bekannte Ecken neuentdecken. Er führt uns an bekannten Wahrzeiche
 n vorbei\, bietet beeindruckende Aussichten auf Stadt und Umland und läss
 t uns unsere Heimat auf neuen Wegen kennenlernen.\n&nbsp\;\nWir teilen uns
  den Weg in drei Etappen auf\, die jeweils mit öffentlichen Verkehrsmitte
 ln erreicht werden können. Auch wenn die einzelnen Etappen lang sind\, so
  sind sie dennoch angenehm zu laufen und für jedes Fitnesslevel geeignet.
 \n&nbsp\;\n\nTeilnehmende\n2 - 15 Personen\nab 14 Jahren\n\nPreis\nfrei \
 n\nLeitung\nTheresa Schäfer\n\nLeistungen\n• Tourenleitung \n\nOrganis
 atorisches\n• An- und Abreise muss eigenständig organisiert werden\n\nA
 nmeldeschluss\n29.11.2026\n\nAuskunft\nJugend- und Familiengeschäftsstell
 e\nTel. 0711 22585-74\ninfo@schwaebische-albvereinsjugend.de\n\nAnmeldung\
 nwww.albvereinsjugend.de
CATEGORIES:Jugend
LOCATION:Bahnhof Stuttgart-Zuffenhausen\, Am Bahnhof 1\, Stuttgart-Zuffenha
 usen\, Baden-Württemberg\, 70435\, Deutschland
GEO:48.831207;9.164929
X-APPLE-STRUCTURED-LOCATION;VALUE=URI;X-ADDRESS=Am Bahnhof 1\, Stuttgart-Zu
 ffenhausen\, Baden-Württemberg\, 70435\, Deutschland;X-APPLE-RADIUS=100;X
 -TITLE=Bahnhof Stuttgart-Zuffenhausen:geo:48.831207,9.164929
END:VEVENT
BEGIN:VTIMEZONE
TZID:Europe/Zurich
X-LIC-LOCATION:Europe/Zurich
BEGIN:STANDARD
DTSTART:20261025T020000
TZOFFSETFROM:+0200
TZOFFSETTO:+0100
TZNAME:CET
END:STANDARD
END:VTIMEZONE
END:VCALENDAR