BEGIN:VCALENDAR
VERSION:2.0
PRODID:-//wp-events-plugin.com//5.99912//EN
TZID:Europe/Berlin
X-WR-TIMEZONE:Europe/Berlin
BEGIN:VEVENT
UID:9-11229@jugend.albverein.net
DTSTART;TZID=Europe/Zurich;VALUE=DATE:20261127
DTEND;TZID=Europe/Zurich;VALUE=DATE:20261130
DTSTAMP:20251222T110725Z
URL:https://jugend.albverein.net/events/weihnachtsfreizeit/
SUMMARY:Weihnachtsfreizeit
DESCRIPTION:\n\n&nbsp\;\nBist du auch immer so aufgeregt\, wenn endlich der
  1. Dezember vor der Tür steht und du endlich das erste Türchen von dein
 em Adventkalender aufmachen darfst? Und stehst du auch jedes Jahr immer st
 aunend vor deinem Fenster\, wenn es das erste Mal so richtig stark schneit
 ?\nWir finden\, dass Weihnachten eigentlich die schönste Zeit des Jahres 
 ist. \nUnd wie verdammt cool klingt das bitte\, die Zeit bis zum 1. Dezemb
 er quasi zu verkürzen und die sowieso schon so schöne Zeit für ein Woch
 enende mit Kindern in deinem Alter zu verbringen? \nWir versprechen dir Pl
 ätzchengeknabber\, Nelkengeruch und Punschduft und versichern dir\, dass 
 deine Vorfreude auf Weihnachten durch die Weihnachtsfreizeit nur noch grö
 ßer wird.\nWir freuen uns darauf mit euch aus der Fuchsfarm einen magisch
 en und total weihnachtlichen Ort zu machen :)\n&nbsp\;\n\n\n\n\n\nTeilnehm
 ende\n15 - 30 Personen\n7 - 13 Jahre\n\nLeitung\nLena Baumann\nClarissa Mo
 rgenstern\n\nPreis\nbis 30.09.  80 € / Mitglied 75 €\nab 01.10.   85
  € / Mitglied 80 €\n\nLeistungen\n• Übernachtung in Mehrbettzimmern
  und Matratzenlager\n• Verpflegung\n• Programm\, Eintritte\n\nAnmeldes
 chluss\n04.11.2026\n\nAuskunft\nJugend- und Familiengeschäftsstelle\nTel.
  0711 22585-74\ninfo@schwaebische-albvereinsjugend.de\n\nAnmeldung\nwww.al
 bvereinsjugend.de\n\n\n\n\n
CATEGORIES:Jugend
LOCATION:Jugendzentrum Fuchsfarm\, Raichberg 3\, Albstadt-Onstmettingen\, 7
 2461\, Deutschland
GEO:48.3008761492356;8.991845626983604
X-APPLE-STRUCTURED-LOCATION;VALUE=URI;X-ADDRESS=Raichberg 3\, Albstadt-Onst
 mettingen\, 72461\, Deutschland;X-APPLE-RADIUS=100;X-TITLE=Jugendzentrum F
 uchsfarm:geo:48.3008761492356,8.991845626983604
END:VEVENT
BEGIN:VTIMEZONE
TZID:Europe/Zurich
X-LIC-LOCATION:Europe/Zurich
BEGIN:STANDARD
DTSTART:20261025T020000
TZOFFSETFROM:+0200
TZOFFSETTO:+0100
TZNAME:CET
END:STANDARD
END:VTIMEZONE
END:VCALENDAR